BEGIN:VCALENDAR
VERSION:2.0
PRODID:-//CESMII - ECPv6.15.17.1//NONSGML v1.0//EN
CALSCALE:GREGORIAN
METHOD:PUBLISH
X-ORIGINAL-URL:https://www.cesmii.org
X-WR-CALDESC:Events for CESMII
REFRESH-INTERVAL;VALUE=DURATION:PT1H
X-Robots-Tag:noindex
X-PUBLISHED-TTL:PT1H
BEGIN:VTIMEZONE
TZID:UTC
BEGIN:STANDARD
TZOFFSETFROM:+0000
TZOFFSETTO:+0000
TZNAME:UTC
DTSTART:20210101T000000
END:STANDARD
END:VTIMEZONE
BEGIN:VEVENT
DTSTART;VALUE=DATE:20240910
DTEND;VALUE=DATE:20240911
DTSTAMP:20260420T082435
CREATED:20240709T134602Z
LAST-MODIFIED:20240730T020834Z
UID:10001521-1725926400-1726012799@www.cesmii.org
SUMMARY:Smart Manufacturing for Automotive
DESCRIPTION:  \nWe’re pleased to share that following the publication of our Automotive Smart Manufacturing Roadmap\, developed in partnership with USCAR\, Smart Manufacturing experts from ZF Group\, General Motors and Volvo Group have shared their reflections and industry insights in a recent eBook. \nAhead of their participation at the Smart Manufacturing for Automotive Summit (10 September 2024\, Detroit\, MI\, USA)\, the industry experts shared their reflections on the roadmap’s strategies for fostering a more productive and sustainable automotive manufacturing environment through enhanced interoperability\, data-driven orchestration\, and workforce development. \nDownload your copy FREE here: https://bit.ly/SMANAUS2024-CESMII \nWe hope you enjoy the insights and look forward to continuing this crucial conversation at the Smart Manufacturing for Automotive Summit (10 September 2024\, Detroit\, MI\, USA)\, chaired by our own Steve Winski.
URL:https://www.cesmii.org/event/smart-manufacturing-for-automotive/
LOCATION:DoubleTree Suites by Hilton Hotel Detroit Downtown – Fort Shelby\, 525 West Lafayette Blvd\, Detroit\, MI\, 48226\, United States
CATEGORIES:Automotive,Industry
ATTACH;FMTTYPE=image/png:https://www.cesmii.org/wp-content/uploads/SMforAutomotive.png
END:VEVENT
BEGIN:VEVENT
DTSTART;VALUE=DATE:20240828
DTEND;VALUE=DATE:20240829
DTSTAMP:20260420T082435
CREATED:20240805T172936Z
LAST-MODIFIED:20240805T172936Z
UID:10001526-1724803200-1724889599@www.cesmii.org
SUMMARY:Automotive Smart ManufacturingX USA
DESCRIPTION:
URL:https://www.cesmii.org/event/automotive-smart-manufacturingx-usa/
LOCATION:The Godfrey Hotel Detroit\, 1401 Michigan Avenue\, Detroit\, MI\, 48216\, United States
CATEGORIES:Automotive,Industry
ATTACH;FMTTYPE=image/jpeg:https://www.cesmii.org/wp-content/uploads/WeAutomotive_SMX.jpg
END:VEVENT
BEGIN:VEVENT
DTSTART;VALUE=DATE:20240404
DTEND;VALUE=DATE:20240405
DTSTAMP:20260420T082435
CREATED:20240202T171914Z
LAST-MODIFIED:20240202T173337Z
UID:10000752-1712188800-1712275199@www.cesmii.org
SUMMARY:Smart Factories Summit
DESCRIPTION:
URL:https://www.cesmii.org/event/smart-factories-summit/
LOCATION:Chicago\, IL\, IL\, United States
CATEGORIES:Industry
ATTACH;FMTTYPE=image/jpeg:https://www.cesmii.org/wp-content/uploads/SMAF-2024-John-Dyck-1.jpg
END:VEVENT
BEGIN:VEVENT
DTSTART;VALUE=DATE:20220913
DTEND;VALUE=DATE:20220914
DTSTAMP:20260420T082435
CREATED:20220902T023139Z
LAST-MODIFIED:20220902T103152Z
UID:10000229-1663027200-1663113599@www.cesmii.org
SUMMARY:Smart Manufacturing for Automotive: Enhancing Manufacturing Process and Performance Through Industry 4.0
DESCRIPTION:As customer demands continue to evolve\, it is critical that automotive OEMs design and manufacture smarter vehicles to remain competitive. Tomorrow’s vehicles are increasing in complexity\, with more parts and technology being integrated than ever before. New approaches are required\, with many automotive manufacturers relying on Industry 4.0 technologies to achieve mass customization\, whilst continuing to increase capacity\, reduce costs\, and maintain safety. \nAlthough implementing smart technologies will produce the desired ROI\, understanding how to achieve value at scale while avoiding disruption to production and supply is complex\, and requires a deep understanding of the technology\, data\, and manufacturing operations. \nThe Smart Manufacturing for Automotive Summit will provide you with the necessary tools to define a strategic roadmap that will enable you to build smarter vehicles and keep up with the accelerated pace and changing demands of consumers \n			\n			\n				\n				\n				\n				\n			\n				\n				\n			\n				\n				\n				\n				\n				\n				\n				\n				\n				\n				\n				\n				\n				\n				\n				\n				\n				\n				\n			\n			\n				\n				\n				\n				\n				\n				\n				\n				\n				\n				Sponsor\n			\n				\n				\n				\n				\n				CESMII Delegates can use CESMII20 for 20% off
URL:https://www.cesmii.org/event/smart-manufacturing-for-automotive-enhancing-manufacturing-process-and-performance-through-industry-4-0/
LOCATION:Sheraton Detroit Metro Airport\, 8000 Merriman Road\, Romulus\, Michigan\, 48174\, United States
CATEGORIES:Automotive,Industry
ATTACH;FMTTYPE=image/png:https://www.cesmii.org/wp-content/uploads/Events_SMforAutomotive.png
END:VEVENT
END:VCALENDAR