BEGIN:VCALENDAR
VERSION:2.0
PRODID:-//CESMII - ECPv6.15.17.1//NONSGML v1.0//EN
CALSCALE:GREGORIAN
METHOD:PUBLISH
X-ORIGINAL-URL:https://www.cesmii.org
X-WR-CALDESC:Events for CESMII
REFRESH-INTERVAL;VALUE=DURATION:PT1H
X-Robots-Tag:noindex
X-PUBLISHED-TTL:PT1H
BEGIN:VTIMEZONE
TZID:UTC
BEGIN:STANDARD
TZOFFSETFROM:+0000
TZOFFSETTO:+0000
TZNAME:UTC
DTSTART:20250101T000000
END:STANDARD
END:VTIMEZONE
BEGIN:VEVENT
DTSTART;VALUE=DATE:20260216
DTEND;VALUE=DATE:20260221
DTSTAMP:20260425T115801
CREATED:20251027T194834Z
LAST-MODIFIED:20251027T194834Z
UID:10001600-1771200000-1771631999@www.cesmii.org
SUMMARY:PROVEIT! Conference 2026
DESCRIPTION:Industry 4.0. Digital Transformation. Unified Namespace. Buzzwords? At PROVEIT! 2026\, the hype ends and the proof begins. This one-of-a-kind event brings 50 vendors together in one digital ecosystem\, each proving their solution in real time. \nFind CESMII’s booth right next to the PROVEIT! team\, where we’ll showcase how Smart Manufacturing Profiles (SM Profiles) enable true interoperability—every vendor on the floor will be consuming them. \nDon’t miss Thursday’s keynote with John Dyck and Jonathan Wise\, as they explore how CESMII is turning vision into verified results. \nWith 1\,500+ attendees\, 250 vendors\, and 76% end-users\, PROVEIT! 2026 is where Industry 4.0 gets real.
URL:https://www.cesmii.org/event/proveit-conference-2026/
LOCATION:Hyatt Regency Dallas\, TX\, 300 Reunion Boulevard\, Dallas\, TX\, 75207\, United States
ATTACH;FMTTYPE=image/jpeg:https://www.cesmii.org/wp-content/uploads/proveit2026.jpeg
END:VEVENT
END:VCALENDAR