BEGIN:VCALENDAR
VERSION:2.0
PRODID:-//CESMII - ECPv6.15.17.1//NONSGML v1.0//EN
CALSCALE:GREGORIAN
METHOD:PUBLISH
X-ORIGINAL-URL:https://www.cesmii.org
X-WR-CALDESC:Events for CESMII
REFRESH-INTERVAL;VALUE=DURATION:PT1H
X-Robots-Tag:noindex
X-PUBLISHED-TTL:PT1H
BEGIN:VTIMEZONE
TZID:UTC
BEGIN:STANDARD
TZOFFSETFROM:+0000
TZOFFSETTO:+0000
TZNAME:UTC
DTSTART:20230101T000000
END:STANDARD
END:VTIMEZONE
BEGIN:VTIMEZONE
TZID:America/Chicago
BEGIN:DAYLIGHT
TZOFFSETFROM:-0600
TZOFFSETTO:-0500
TZNAME:CDT
DTSTART:20240310T080000
END:DAYLIGHT
BEGIN:STANDARD
TZOFFSETFROM:-0500
TZOFFSETTO:-0600
TZNAME:CST
DTSTART:20241103T070000
END:STANDARD
BEGIN:DAYLIGHT
TZOFFSETFROM:-0600
TZOFFSETTO:-0500
TZNAME:CDT
DTSTART:20250309T080000
END:DAYLIGHT
BEGIN:STANDARD
TZOFFSETFROM:-0500
TZOFFSETTO:-0600
TZNAME:CST
DTSTART:20251102T070000
END:STANDARD
BEGIN:DAYLIGHT
TZOFFSETFROM:-0600
TZOFFSETTO:-0500
TZNAME:CDT
DTSTART:20260308T080000
END:DAYLIGHT
BEGIN:STANDARD
TZOFFSETFROM:-0500
TZOFFSETTO:-0600
TZNAME:CST
DTSTART:20261101T070000
END:STANDARD
END:VTIMEZONE
BEGIN:VEVENT
DTSTART;VALUE=DATE:20240729
DTEND;VALUE=DATE:20240802
DTSTAMP:20260420T114039
CREATED:20240429T185953Z
LAST-MODIFIED:20240702T171028Z
UID:10000773-1722211200-1722556799@www.cesmii.org
SUMMARY:HI-TEC: High Impact Technology Exchange Conference 2024
DESCRIPTION:
URL:https://www.cesmii.org/event/hi-tec-high-impact-technology-exchange-conference-2024/
LOCATION:Sheraton Kansas City Hotel at Crown Center\, 2345 McGee Street\, Kansas City\, MO\, 64108\, United States
CATEGORIES:Industry
ATTACH;FMTTYPE=image/jpeg:https://www.cesmii.org/wp-content/uploads/433459469_939603178166906_5505824062283441211_n.jpg
END:VEVENT
BEGIN:VEVENT
DTSTART;VALUE=DATE:20240807
DTEND;VALUE=DATE:20240809
DTSTAMP:20260420T114039
CREATED:20240718T134530Z
LAST-MODIFIED:20240730T040740Z
UID:10001524-1722988800-1723161599@www.cesmii.org
SUMMARY:Advanced Manufacturing Expo
DESCRIPTION:Title: Democratizing Access to Smart Manufacturing – A Conversation with John Dyck\, CEO of CESMII\nAbstract: Are you ready to revolutionize your manufacturing operations? Join us for an exclusive session to discover how CESMII – The Smart Manufacturing Institute – is transforming the industry by leveraging their strategic collaborations with the MEP National Network\, i4.0 Accelerator\, and other leading partners.\n\n\nHear from industry experts and members about how CESMII’s roadmapping tools are driving innovation.\n\n\nGet an inside look at CESMII’s open-source resources\, including the free OEE app.\n\n\nLearn how you can integrate these tools into your operations and publish your own innovations to CESMII’s app store.
URL:https://www.cesmii.org/event/advanced-manufacturing-expo/
LOCATION:DeVos Place Convention Center\, 303 Monroe Ave NW\, Grand Rapids\, MI\, 49503\, United States
CATEGORIES:Industry
ATTACH;FMTTYPE=image/png:https://www.cesmii.org/wp-content/uploads/AME2018logo.png
END:VEVENT
BEGIN:VEVENT
DTSTART;VALUE=DATE:20240828
DTEND;VALUE=DATE:20240829
DTSTAMP:20260420T114039
CREATED:20240805T172936Z
LAST-MODIFIED:20240805T172936Z
UID:10001526-1724803200-1724889599@www.cesmii.org
SUMMARY:Automotive Smart ManufacturingX USA
DESCRIPTION:
URL:https://www.cesmii.org/event/automotive-smart-manufacturingx-usa/
LOCATION:The Godfrey Hotel Detroit\, 1401 Michigan Avenue\, Detroit\, MI\, 48216\, United States
CATEGORIES:Automotive,Industry
ATTACH;FMTTYPE=image/jpeg:https://www.cesmii.org/wp-content/uploads/WeAutomotive_SMX.jpg
END:VEVENT
BEGIN:VEVENT
DTSTART;VALUE=DATE:20240910
DTEND;VALUE=DATE:20240911
DTSTAMP:20260420T114039
CREATED:20240709T134602Z
LAST-MODIFIED:20240730T020834Z
UID:10001521-1725926400-1726012799@www.cesmii.org
SUMMARY:Smart Manufacturing for Automotive
DESCRIPTION:  \nWe’re pleased to share that following the publication of our Automotive Smart Manufacturing Roadmap\, developed in partnership with USCAR\, Smart Manufacturing experts from ZF Group\, General Motors and Volvo Group have shared their reflections and industry insights in a recent eBook. \nAhead of their participation at the Smart Manufacturing for Automotive Summit (10 September 2024\, Detroit\, MI\, USA)\, the industry experts shared their reflections on the roadmap’s strategies for fostering a more productive and sustainable automotive manufacturing environment through enhanced interoperability\, data-driven orchestration\, and workforce development. \nDownload your copy FREE here: https://bit.ly/SMANAUS2024-CESMII \nWe hope you enjoy the insights and look forward to continuing this crucial conversation at the Smart Manufacturing for Automotive Summit (10 September 2024\, Detroit\, MI\, USA)\, chaired by our own Steve Winski.
URL:https://www.cesmii.org/event/smart-manufacturing-for-automotive/
LOCATION:DoubleTree Suites by Hilton Hotel Detroit Downtown – Fort Shelby\, 525 West Lafayette Blvd\, Detroit\, MI\, 48226\, United States
CATEGORIES:Automotive,Industry
ATTACH;FMTTYPE=image/png:https://www.cesmii.org/wp-content/uploads/SMforAutomotive.png
END:VEVENT
BEGIN:VEVENT
DTSTART;TZID=UTC:20240924T130000
DTEND;TZID=UTC:20240924T163000
DTSTAMP:20260420T114039
CREATED:20240712T134429Z
LAST-MODIFIED:20240712T134518Z
UID:10001523-1727182800-1727195400@www.cesmii.org
SUMMARY:Manufacturing X.0: AI in Manufacturing Pre-Event Workshop
DESCRIPTION:On September 24\, 2024\, the AI in Manufacturing Pre-Event Workshop\, hosted by Jeff Winter\, Smart Manufacturing Advisor at CESMII\, was an outstanding success. Limited to the first 50 registered manufacturers\, this exclusive event provided a unique opportunity for participants to learn from peers\, speed up processes\, and drive innovation using AI. \nWorkshop Highlights:\n1. Actionable Insights:\nParticipants walked away with practical strategies to enhance their AI initiatives\, gaining valuable knowledge to implement in their own organizations. \n2. Collaborative Learning:\nThe workshop emphasized the collective knowledge and experiences of peers\, fostering an environment of shared learning and growth. \n3. Networking Opportunities:\nAttendees connected with industry professionals\, establishing valuable connections that could lead to future collaborations. \nUnique Homework Component:\nBefore the workshop\, participants received a set of homework questions designed to take 10-20 minutes. The true value of this exercise was revealed during the workshop as participants heard the answers from their industry peers. \nWorkshop Agenda:\n12:45 PM – Registration:\nParticipants arrived and registered for the event\, eagerly anticipating the informative sessions ahead. \n1:00 PM – State of AI in Manufacturing Presentation:\nThe workshop kicked off with an insightful presentation on the state of AI in manufacturing\, providing a comprehensive overview of current trends\, challenges\, and opportunities in the industry. \n1:30 PM – Interactive Discussion:\nAn engaging facilitated discussion followed\, where aggregate answers to the homework questions were shared. This interactive session allowed participants to ask questions\, share insights\, and learn from each other’s experiences. \n2:30 PM – Coffee & Networking Break:\nAttendees enjoyed a break with coffee and snacks\, providing an excellent opportunity to network and connect with fellow industry professionals. \n3:00 PM – Peer-Led Presentations Sharing Best Practices:\nBetween 4-7 leading companies presented their best practices developed when evaluating\, applying\, or scaling AI. Participants gained valuable insights and actionable strategies to implement in their own organizations. \n4:30 PM – Closing Remarks & End of Workshop:\nThe workshop concluded with closing remarks\, summarizing the key takeaways and expressing appreciation to all participants for their engagement. \nPost Workshop:\nAll participants received a copy of the workshop homework data\, aggregated and anonymized\, along with an attendee list (without contact information). Introductions were made for those interested in networking or willing to help others. \nThank you to everyone who attended and contributed to the success of this event! 🌐 #AIWorkshop #SmartManufacturing #Innovation #CESMII #Industry4_0 #Networking
URL:https://www.cesmii.org/event/mx-0-midwest-ai-in-manufacturing-pre-event-workshop/
LOCATION:Crowne Plaza Cleveland at Playhouse Square\, 1260 Euclid Ave.\, Cleveland\, OH\, 44115\, United States
CATEGORIES:Education & Workforce Development,Industry
ATTACH;FMTTYPE=image/jpeg:https://www.cesmii.org/wp-content/uploads/MX0-Announcement-2.jpg
END:VEVENT
BEGIN:VEVENT
DTSTART;TZID=UTC:20240925T070000
DTEND;TZID=UTC:20240925T180000
DTSTAMP:20260420T114039
CREATED:20240516T190237Z
LAST-MODIFIED:20240731T012027Z
UID:10001511-1727247600-1727287200@www.cesmii.org
SUMMARY:Manufacturing X.0: Advancing Every Stage of Your Digital Transformation Journey
DESCRIPTION:Manufacturing X.0: Advancing Every Stage of Your Digital Transformation Journey Having delivered content and manufacturer-led events to manufacturers in the Southeast since 2022\, we’re excited to bring the MX.0 program to Cleveland\, OH\, to equip Midwestern manufacturers with the necessary lessons and network to move from Industry 3.0 to 4.0 and beyond. \nThe M(anufacturing) X.0 agenda delivers practical\, tried\, and tested\, examples of tech-led innovation\, helping manufacturers of different sizes\, at different points in their digital transformation journey. The event is ‘manufacturer-led’\, with case studies\, and ‘dos and don’ts’\, shared by manufacturer speakers on stage\, a select group of renowned industry bodies and influencers\, and only a handful of their solution partners. \nAttendees leave with the insights\, resources and network required to achieve a more productive and efficient manufacturing business\, after hearing case studies and discussions focused on empowering people and leading change\, advancing automation\, data management processes\, and leveraging technologies including AI\, Robotics\, Mixed Reality\, Cloud Computing\, Digital Twins\, and more.
URL:https://www.cesmii.org/event/mx-0-midwest/
LOCATION:Crowne Plaza Cleveland at Playhouse Square\, 1260 Euclid Ave.\, Cleveland\, OH\, 44115\, United States
CATEGORIES:Industry
ATTACH;FMTTYPE=image/jpeg:https://www.cesmii.org/wp-content/uploads/John-Dyck.jpg
END:VEVENT
BEGIN:VEVENT
DTSTART;TZID=UTC:20241007T080000
DTEND;TZID=UTC:20241010T170000
DTSTAMP:20260420T114039
CREATED:20240522T005036Z
LAST-MODIFIED:20240926T120002Z
UID:10001514-1728288000-1728579600@www.cesmii.org
SUMMARY:The Connected Worker Chicago Summit
DESCRIPTION:North America’s #1 Event for Manufacturing Innovation. \nThe Connected Worker\, Chicago Summit is the only event uniting the entire Manufacturing ecosystem. With 100+ Speakers and 300+ Manufacturing Leaders\, this is where innovation meets collaboration at an unparalleled scale. \nJoin your manufacturing peers this October and explore cloud-based solutions and innovative technologies that will help you optimize performance\, improve manufacturing\, and enhance supply chain operations for increased productivity\, safety\, and quality gains. \nOur team is looking forward to welcoming you to the event! Secure your spot by using code CESMII20 for 20% off! \n________________________________\nUpskilling and Reskilling in the Age of AI to Create an Agile Workforce with a Diversified Skill Set\nThis panel presentation will be discussing topics including:\n\nBuilding workforce capability in response to AI-driven transformation efforts\nUpskilling existing talent to improve workforce retention and employee engagement\nBenchmarking the current skills of your workforce to understand learning requirements and ensure skill transformation is measurable\nDeveloping AI skills augmented with creativity\, communication\, and critical thinking to ensure operational agility\n\nTime: Oct 8th\, 12:55-1:25pm     \nModerated by:\nJan Shumate\, Engineering & Construction Solutions/Corp Manufacturing Automation Transformation at Eastman. \nPanel: \n\nAmy Ashley\, Director Learning and Development at Caterpillar\nJungwoo Ryoo\, Ph.D.\, Chancellor and Chief Academic Officer at Penn-State University\nConrad Leiva\, VP Ecosystem and Workforce Development at CESMII
URL:https://www.cesmii.org/event/the-connected-worker-chicago-summit/
LOCATION:Lincolnshire Marriott Resort\, Ten Marriott Dr\, Chicago\, Illinois\, 60069\, United States
CATEGORIES:Industry
ATTACH;FMTTYPE=image/png:https://www.cesmii.org/wp-content/uploads/CWC-CESMII-Banner-1.png
END:VEVENT
BEGIN:VEVENT
DTSTART;VALUE=DATE:20241204
DTEND;VALUE=DATE:20241206
DTSTAMP:20260420T114039
CREATED:20240930T091954Z
LAST-MODIFIED:20240930T092038Z
UID:10001530-1733270400-1733443199@www.cesmii.org
SUMMARY:The Future of Manufacturing Project: AI-Centric Factories of the Future
DESCRIPTION:The Future of Manufacturing Project: AI-Centric Factories of the Future will explore how GenAI\, machine learning and other future AI methodologies will reshape factory floors\, supply chains and the manufacturing workforce in the years ahead. This event is part of the Future of Manufacturing Project. \nPlease note: The Future of Manufacturing Project is formerly known as the Manufacturing in 2030 Project.
URL:https://www.cesmii.org/event/ai-centric-factories-of-the-future/
LOCATION:Conrad Orlando\, 1500 Eastbeach Wy\, Orlando\, FL\, 32836
CATEGORIES:Academia & Government,Industry
ATTACH;FMTTYPE=image/png:https://www.cesmii.org/wp-content/uploads/fomp-speaker-graphic-johndyck.png
END:VEVENT
BEGIN:VEVENT
DTSTART;VALUE=DATE:20250204
DTEND;VALUE=DATE:20250207
DTSTAMP:20260420T114039
CREATED:20250318T175159Z
LAST-MODIFIED:20250318T185327Z
UID:10001564-1738627200-1738886399@www.cesmii.org
SUMMARY:Smart Manufacturing — Why It Matters and How to Achieve It
DESCRIPTION:Transform your manufacturing operations at the Smart Manufacturing Workshop. This hands-on training goes beyond the buzzwords\, offering clear and actionable strategies to help you integrate advanced technologies and outpace your competition. \nIn today’s dynamic market\, Smart manufacturing is shaping the future of the industry\, offering tools to significantly reduce downtime\, optimize productivity\, and cut down costs. This workshop provides the insights and actionable steps needed to begin your journey and prepare for the challenges ahead. \nWhether you’re a manufacturing leader aiming to improve results or an engineer ready to implement innovative solutions\, you’ll gain the knowledge to lead your organization toward smarter\, more effective manufacturing. Discover the strategies\, tools\, and first steps to implement smart manufacturing and position your organization for success in 2025 and beyond.
URL:https://www.cesmii.org/event/mdmwest/
LOCATION:MI
CATEGORIES:Industry
ATTACH;FMTTYPE=image/jpeg:https://www.cesmii.org/wp-content/uploads/mdmwest.jpeg
END:VEVENT
BEGIN:VEVENT
DTSTART;TZID=America/Chicago:20250310T113000
DTEND;TZID=America/Chicago:20250310T123000
DTSTAMP:20260420T114039
CREATED:20250203T195227Z
LAST-MODIFIED:20250219T114923Z
UID:10001547-1741606200-1741609800@www.cesmii.org
SUMMARY:SXSW: Smart\, Sustainable\, Streamlined: Factories of the Future
DESCRIPTION:  \n 
URL:https://www.cesmii.org/event/sxsw-smart-sustainable-streamlined-factories-of-the-future/
LOCATION:Austin Convention Center\, TX\, United States
CATEGORIES:Academia & Government,Industry
ATTACH;FMTTYPE=image/jpeg:https://www.cesmii.org/wp-content/uploads/1738262876834.jpeg
END:VEVENT
BEGIN:VEVENT
DTSTART;TZID=UTC:20250313T100000
DTEND;TZID=UTC:20250313T100000
DTSTAMP:20260420T114039
CREATED:20241203T195148Z
LAST-MODIFIED:20250226T204229Z
UID:10001537-1741860000-1741860000@www.cesmii.org
SUMMARY:Smart Manufacturing Roadshow: Indiana
DESCRIPTION:
URL:https://www.cesmii.org/event/smart-manufacturing-roadshow-indiana/
LOCATION:EMC2\, 1250 Indiana Ave\, Indianapolis\, IN\, United States
CATEGORIES:Industry
ATTACH;FMTTYPE=image/jpeg:https://www.cesmii.org/wp-content/uploads/2025-cesmiismroadshow-indiana.jpg
END:VEVENT
BEGIN:VEVENT
DTSTART;TZID=UTC:20250409T103000
DTEND;TZID=UTC:20250409T143000
DTSTAMP:20260420T114039
CREATED:20250317T135331Z
LAST-MODIFIED:20250317T135520Z
UID:10001562-1744194600-1744209000@www.cesmii.org
SUMMARY:Strategic Pathways to Smart Manufacturing
DESCRIPTION:
URL:https://www.cesmii.org/event/strategic-pathways-to-smart-manufacturing/
LOCATION:MI
CATEGORIES:Industry
ATTACH;FMTTYPE=image/jpeg:https://www.cesmii.org/wp-content/uploads/rexel-event-strategic-pathways-to-smart-manufacturing-2025-1.jpg
END:VEVENT
BEGIN:VEVENT
DTSTART;TZID=UTC:20250411T110000
DTEND;TZID=UTC:20250411T133000
DTSTAMP:20260420T114039
CREATED:20250228T103238Z
LAST-MODIFIED:20250228T103813Z
UID:10001559-1744369200-1744378200@www.cesmii.org
SUMMARY:Resilient and Flexible Supply Chain Workshop
DESCRIPTION:Biopharmaceutical supply chains are complex\, customized for each product\, and globally dispersed\, leaving the industry vulnerable to disruptions that may prohibit it from delivering medicines to patients. \nTo address these challenges\, the industry needs a robust\, real-time\, digital infrastructure for data exchange across supply networks.   NIIMBL and CESMII\, the Smart Manufacturing Institute\, have partnered with support from the Gates Foundation to explore developing and implementing a Supply Chain Data Exchange framework leveraging CESMII’s Smart Manufacturing Supply Chain model. \nTo begin the project\, we are looking for representatives from large biopharmaceutical companies\, suppliers\, academia\, and other supply chain experts to participate in a 2.5-hour virtual workshop tentatively scheduled for April 11\, 2025. From 11:00 am to 1:30 pm ET. \nThe goal of the workshop is to convene pharma industry leaders to address supply chain resilience. The initial virtual workshop will be followed by a second workshop later in 2025 with subject matter experts based on the use cases identified during the initial workshop. If you would like to participate\, complete the interest form. \nNIIMBL will review interested individuals and send invitations by email during or around the week of March 10\, 2025. Please note: NIIMBL will limit the number of workshop participants to ensure a balanced mix of stakeholder groups and perspectives.
URL:https://www.cesmii.org/event/register-your-interest-in-resilient-and-flexible-supply-chain-workshop/
LOCATION:MI
CATEGORIES:Academia & Government,Industry,Pharma
ATTACH;FMTTYPE=image/jpeg:https://www.cesmii.org/wp-content/uploads/resilient-and-flexible-supply-chain-cesmiiedit.jpg
END:VEVENT
BEGIN:VEVENT
DTSTART;VALUE=DATE:20250512
DTEND;VALUE=DATE:20250516
DTSTAMP:20260420T114039
CREATED:20250226T154103Z
LAST-MODIFIED:20250306T105749Z
UID:10001558-1747008000-1747353599@www.cesmii.org
SUMMARY:Automate
DESCRIPTION:
URL:https://www.cesmii.org/event/2025-automate/
LOCATION:HUNTINGTON PLACE CONVENTION CENTER\, Detriot\, MI\, United States
CATEGORIES:Industry
ATTACH;FMTTYPE=image/jpeg:https://www.cesmii.org/wp-content/uploads/automate-2025-2.jpg
END:VEVENT
BEGIN:VEVENT
DTSTART;VALUE=DATE:20250520
DTEND;VALUE=DATE:20250522
DTSTAMP:20260420T114039
CREATED:20241205T171417Z
LAST-MODIFIED:20251027T191640Z
UID:10001539-1747699200-1747871999@www.cesmii.org
SUMMARY:LNS Research: Productivity Pathfinders Event
DESCRIPTION:Join LNS Research for our exclusive\, invite-only Productivity Pathfinders Executive Event. You will get an opportunity to collaborate with select industrial Operations leases from the 2025 Productivity Pathfinder companies and members of the LNS Research Analyst team on our new Industrial Productivity research.
URL:https://www.cesmii.org/event/lns-research-productivity-pathfinders-event/
LOCATION:Hotel Ivy\, 201 S 11th St\, Minneapolis\, MN\, 55403\, United States
CATEGORIES:Industry
ATTACH;FMTTYPE=image/jpeg:https://www.cesmii.org/wp-content/uploads/1740670259739.jpeg
END:VEVENT
BEGIN:VEVENT
DTSTART;VALUE=DATE:20250528
DTEND;VALUE=DATE:20250529
DTSTAMP:20260420T114039
CREATED:20250224T212604Z
LAST-MODIFIED:20250418T232123Z
UID:10001550-1748390400-1748476799@www.cesmii.org
SUMMARY:2025 TDAMC Summit
DESCRIPTION:
URL:https://www.cesmii.org/event/2025-tdamc-summit/
LOCATION:Frontiers of Flight Museum\, 6911 Lemmon Ave\, Dallas\, TX\, 75209\, United States
CATEGORIES:Aerospace,Affinity Groups,Industry
ATTACH;FMTTYPE=image/png:https://www.cesmii.org/wp-content/uploads/screenshot-2025-02-24-132230.png
ORGANIZER;CN="Texas Defense Aerospace Manufacturing Community":MAILTO:mfgworkforce@tamu.edu
END:VEVENT
BEGIN:VEVENT
DTSTART;VALUE=DATE:20250602
DTEND;VALUE=DATE:20250607
DTSTAMP:20260420T114039
CREATED:20250226T153034Z
LAST-MODIFIED:20250226T153509Z
UID:10001557-1748822400-1749254399@www.cesmii.org
SUMMARY:2025 CSIA Conference
DESCRIPTION:The 2025 CSIA Conference is your opportunity to level up—to grow\, learn\, and lead in today’s rapidly evolving business and technological landscape. This year’s theme\, “Elevate Your Game\,” reflects the essential need for companies to transform into learning organizations\, ready to adapt and thrive beyond traditional boundaries. You and your team can expect: \n\nInnovative strategies to onboard new engineers\, empower emerging leaders\, and create a culture that prioritizes growth and adaptability.\nInsight into staying ahead through digital transformation.\nActionable ideas into building strong\, resilient teams that drive success.\nOptional workshops to dig deeper into CSIA Best Practices and topics such as business risk and marketing.\n\nWhether you’re an owner\, leader\, or engineer preparing for your next step\, this is your opportunity to be alongside the best minds in the industry.
URL:https://www.cesmii.org/event/2025-csia-conference/
LOCATION:Sheraton San Diego Hotel and Marina\, 1380 Harbor Island Drive\, San Diego\, CA\, 92101\, United States
CATEGORIES:Industry
ATTACH;FMTTYPE=image/png:https://www.cesmii.org/wp-content/uploads/25conf-std-16-9.png
ORGANIZER;CN="CSIA":MAILTO:info@staff.controlsys.org
END:VEVENT
BEGIN:VEVENT
DTSTART;VALUE=DATE:20250615
DTEND;VALUE=DATE:20250619
DTSTAMP:20260420T114039
CREATED:20250226T151938Z
LAST-MODIFIED:20250226T151938Z
UID:10001556-1749945600-1750291199@www.cesmii.org
SUMMARY:Rethink: Accelerating Digital Transformation in Manufacturing
DESCRIPTION:No matter where you are on the digital manufacturing journey\, Rethink is a must-attend event to learn aspirational best practices\, discover real-world case studies\, and network with other leaders who are guiding the way to Manufacturing 4.0. \nRethink examines today’s digital factory as it intersects with technology\, organizations\, and leadership. Come away with a better understanding of the smart factory and what’s needed to compete\, succeed\, and thrive in the connected future.
URL:https://www.cesmii.org/event/2025-rethink/
LOCATION:JW Marriott Marco Island Beach Resort\, 400 South Collier Boulevard\, Marco Island\, FL\, 34145\, United States
CATEGORIES:Academia & Government,Education & Workforce Development,Industry
ATTACH;FMTTYPE=image/jpeg:https://www.cesmii.org/wp-content/uploads/rethink.jpg
END:VEVENT
BEGIN:VEVENT
DTSTART;TZID=UTC:20250825T100000
DTEND;TZID=UTC:20250825T160000
DTSTAMP:20260420T114039
CREATED:20250623T194747Z
LAST-MODIFIED:20250722T161113Z
UID:10001581-1756116000-1756137600@www.cesmii.org
SUMMARY:U.S. Smart Manufacturing Interoperability Summit in Detroit
DESCRIPTION:Join us for this important forum to determine how we move beyond the historic data fundamentals and architectures of the past 30 years – to a future marked by enormous innovation and productivity growth. This will be a practical deep dive on the future of OT/IT interoperability for Smart Manufacturing Operations and Supply Chains. \nThis Summit is a collaborative\, international initiative to shine the spotlight on the necessary building blocks\, competencies\, and capabilities related to modernizing our approach to OT/IT data engineering. We will explore the value\, the challenges/risks\, and the best practices on the journey to interoperability. We will showcase the capabilities\, explore the relevant standards\, and unveil how open APIs can unlock the full potential of industrial data and AI at scale! \nJoin us in Detroit\, Cleveland or Chicago as we bring industry leaders together to understand just how important interoperability is on our journey to productivity and competitiveness! \nAgenda Highlights Include: \n\nA Manufacturer’s Perspective – the Strategic Importance and Value of Interoperability\nCESMII’s Smart Manufacturing Imperatives\nThe Role of OPC UA in Enabling Interoperability\nEquipment Data Standards and International Alignment with VDMA\nComplimentary Lunch\nExpert Panel on Interoperability – Audience Q&A\nNew topics/trends (OPC Cloud\, Digital Product Passport\, API\, Supply Chain\, etc.)\nA Demonstration of What Interoperability Looks Like\nCall to Action\n\n  \n 
URL:https://www.cesmii.org/event/u-s-smart-manufacturing-interoperability-summit-in-detroit/
LOCATION:Michigan State University Management Education Center\, 811 W. Square Lake Rd.\, Troy\, MI\, 48098\, United States
CATEGORIES:Industry
ATTACH;FMTTYPE=image/png:https://www.cesmii.org/wp-content/uploads/interoperabilitysummit-detroitmi-16x9.png
END:VEVENT
BEGIN:VEVENT
DTSTART;VALUE=DATE:20250916
DTEND;VALUE=DATE:20250918
DTSTAMP:20260420T114039
CREATED:20250627T110538Z
LAST-MODIFIED:20250627T162126Z
UID:10001585-1757980800-1758153599@www.cesmii.org
SUMMARY:MX.0 Midwest
DESCRIPTION:
URL:https://www.cesmii.org/event/mx-0-midwest-2025/
LOCATION:The Westin Cleveland Downtown\, 777 St Clair Ave NE\, Cleveland\, OH\, 44114\, United States
CATEGORIES:Industry
ATTACH;FMTTYPE=image/jpeg:https://www.cesmii.org/wp-content/uploads/1750688939766.jpeg
END:VEVENT
END:VCALENDAR