BEGIN:VCALENDAR
VERSION:2.0
PRODID:-//CESMII - ECPv6.15.17.1//NONSGML v1.0//EN
CALSCALE:GREGORIAN
METHOD:PUBLISH
X-WR-CALNAME:CESMII
X-ORIGINAL-URL:https://www.cesmii.org
X-WR-CALDESC:Events for CESMII
REFRESH-INTERVAL;VALUE=DURATION:PT1H
X-Robots-Tag:noindex
X-PUBLISHED-TTL:PT1H
BEGIN:VTIMEZONE
TZID:UTC
BEGIN:STANDARD
TZOFFSETFROM:+0000
TZOFFSETTO:+0000
TZNAME:UTC
DTSTART:20230101T000000
END:STANDARD
END:VTIMEZONE
BEGIN:VEVENT
DTSTART;TZID=UTC:20240506T080000
DTEND;TZID=UTC:20240509T170000
DTSTAMP:20260420T095517
CREATED:20240109T202209Z
LAST-MODIFIED:20240202T212104Z
UID:10000370-1714982400-1715274000@www.cesmii.org
SUMMARY:AUTOMATE (The Show for Automation)
DESCRIPTION:With over 800 exhibitors\, AUTOMATE exhibits leading automation solutions from around the world. You’ll find everything from robotics to vision to motion control\, AI and more. Join us to see how automation is no longer just the future; it’s the here and now.
URL:https://www.cesmii.org/event/automate-the-show-for-automation-may-6-9-2024/
LOCATION:McCormick Place\, 2301 S Martin Luther King Dr\, Chicago\, Illinois
CATEGORIES:Industry
ATTACH;FMTTYPE=image/jpeg:https://www.cesmii.org/wp-content/uploads/January_MVPro_v1-1-002.jpeg
END:VEVENT
END:VCALENDAR