BEGIN:VCALENDAR
VERSION:2.0
PRODID:-//CESMII - ECPv6.15.17.1//NONSGML v1.0//EN
CALSCALE:GREGORIAN
METHOD:PUBLISH
X-WR-CALNAME:CESMII
X-ORIGINAL-URL:https://www.cesmii.org
X-WR-CALDESC:Events for CESMII
REFRESH-INTERVAL;VALUE=DURATION:PT1H
X-Robots-Tag:noindex
X-PUBLISHED-TTL:PT1H
BEGIN:VTIMEZONE
TZID:America/New_York
BEGIN:DAYLIGHT
TZOFFSETFROM:-0500
TZOFFSETTO:-0400
TZNAME:EDT
DTSTART:20250309T070000
END:DAYLIGHT
BEGIN:STANDARD
TZOFFSETFROM:-0400
TZOFFSETTO:-0500
TZNAME:EST
DTSTART:20251102T060000
END:STANDARD
BEGIN:DAYLIGHT
TZOFFSETFROM:-0500
TZOFFSETTO:-0400
TZNAME:EDT
DTSTART:20260308T070000
END:DAYLIGHT
BEGIN:STANDARD
TZOFFSETFROM:-0400
TZOFFSETTO:-0500
TZNAME:EST
DTSTART:20261101T060000
END:STANDARD
BEGIN:DAYLIGHT
TZOFFSETFROM:-0500
TZOFFSETTO:-0400
TZNAME:EDT
DTSTART:20270314T070000
END:DAYLIGHT
BEGIN:STANDARD
TZOFFSETFROM:-0400
TZOFFSETTO:-0500
TZNAME:EST
DTSTART:20271107T060000
END:STANDARD
END:VTIMEZONE
BEGIN:VTIMEZONE
TZID:UTC
BEGIN:STANDARD
TZOFFSETFROM:+0000
TZOFFSETTO:+0000
TZNAME:UTC
DTSTART:20250101T000000
END:STANDARD
END:VTIMEZONE
BEGIN:VEVENT
DTSTART;VALUE=DATE:20260414
DTEND;VALUE=DATE:20260610
DTSTAMP:20260423T084156
CREATED:20260105T174844Z
LAST-MODIFIED:20260204T113816Z
UID:10001612-1776124800-1781049599@www.cesmii.org
SUMMARY:Smart Manufacturing Acceleration Roadmap Professional Certification Course
DESCRIPTION:
URL:https://www.cesmii.org/event/smart-manufacturing-acceleration-roadmap-professional-certification-course-04-14-26/
LOCATION:Zoom\, United States
CATEGORIES:Education & Workforce Development,Rensselaer Polytechnic Institute
ATTACH;FMTTYPE=image/jpeg:https://www.cesmii.org/wp-content/uploads/smarp-course-nxgen-100.jpg
END:VEVENT
BEGIN:VEVENT
DTSTART;VALUE=DATE:20260420
DTEND;VALUE=DATE:20260425
DTSTAMP:20260423T084156
CREATED:20251222T061839Z
LAST-MODIFIED:20251222T061839Z
UID:10001605-1776643200-1777075199@www.cesmii.org
SUMMARY:HANNOVER MESSE
DESCRIPTION:🏭 Automation & Digital IndustrySmart factories\, robotics\, industrial AI\, IIoT\, software\, and secure digital production systems. \n⚡ Energy & Industrial InfrastructureElectrification\, hydrogen\, energy storage\, smart grids\, and sustainable industrial power solutions. \n🤖 Industrial AI & Advanced ManufacturingAI-driven production\, autonomous systems\, predictive maintenance\, and next-gen manufacturing tech. \n🔬 Research & Innovation TransferBridging R&D and industry — from prototypes and labs to real-world industrial applications. \n🚀 Startups & Innovation EcosystemEmerging companies showcasing disruptive technologies and new industrial business models. \n🌍 Global Trade & InvestmentInternational exhibitors\, partner-country showcases\, and cross-border industrial collaboration. \n🎯 Special Exhibitions & Trend ZonesCurated displays highlighting breakthrough technologies\, future industry concepts\, and live demos.
URL:https://www.cesmii.org/event/hannover-messe/
LOCATION:Hannover Exhibition Centre (Messegelände) Hannover\, Germany\, Hannover Exhibition Centre (Messegelände)\, 30521
ATTACH;FMTTYPE=image/png:https://www.cesmii.org/wp-content/uploads/68c918797170e2465627ad2b-captura-de-pantalla-2025-09-16-a-las-9-54-05.png
END:VEVENT
END:VCALENDAR